BEGIN:VCALENDAR
VERSION:2.0
PRODID:-//Goldgrube//myauktion.com//AT
CALSCALE:GREGORIAN
BEGIN:VEVENT
DTSTART:20260506T152100
DTEND:20260506T152130
LOCATION:Gewerbepark 13, 8562 Mooskirchen
DTSTAMP:20260423T151132
SUMMARY:MyAuktion: Ablauf Artikel Nr. 443696 Beautissu Rückenpolster ECO Art.N. 4054673368031
URL;VALUE=URI:https://www.myauktion.com/versteigerung7661-position2446863-beautissu-rueckenpolster-eco-artn-4054673368031.php
DESCRIPTION:Größe ca 120×40×10/20 cm
UID:myauktion-7661-2446863
BEGIN:VALARM
ACTION:DISPLAY
DESCRIPTION:Größe ca 120×40×10/20 cm
TRIGGER:-PT10M
END:VALARM
END:VEVENT
END:VCALENDAR