BEGIN:VCALENDAR
VERSION:2.0
PRODID:-//Goldgrube//myauktion.com//AT
CALSCALE:GREGORIAN
BEGIN:VEVENT
DTSTART:20260506T133300
DTEND:20260506T133330
LOCATION:Gewerbepark 13, 8562 Mooskirchen
DTSTAMP:20260423T153102
SUMMARY:MyAuktion: Ablauf Artikel Nr. 443145 Eziclen Konzentrat zur Herstellung einer Lösung 2x176ml 
URL;VALUE=URI:https://www.myauktion.com/versteigerung7661-position2446864-eziclen-konzentrat-zur-herstellung-einer-loesung-2x176ml.php
DESCRIPTION:MHD 07.2027 
UID:myauktion-7661-2446864
BEGIN:VALARM
ACTION:DISPLAY
DESCRIPTION:MHD 07.2027 
TRIGGER:-PT10M
END:VALARM
END:VEVENT
END:VCALENDAR