BEGIN:VCALENDAR
VERSION:2.0
PRODID:-//Goldgrube//myauktion.com//AT
CALSCALE:GREGORIAN
BEGIN:VEVENT
DTSTART:20260506T133400
DTEND:20260506T133430
LOCATION:Gewerbepark 13, 8562 Mooskirchen
DTSTAMP:20260423T153106
SUMMARY:MyAuktion: Ablauf Artikel Nr. 443146 Lastar for one night Coffee & Cream Vanilla Sweet Sensuality 50ml 
URL;VALUE=URI:https://www.myauktion.com/versteigerung7661-position2446865-lastar-for-one-night-coffee-38-cream-vanilla-sweet-sensuality-50ml.php
DESCRIPTION:MHD 20.07.2030 
UID:myauktion-7661-2446865
BEGIN:VALARM
ACTION:DISPLAY
DESCRIPTION:MHD 20.07.2030 
TRIGGER:-PT10M
END:VALARM
END:VEVENT
END:VCALENDAR