BEGIN:VCALENDAR
VERSION:2.0
PRODID:-//Goldgrube//myauktion.com//AT
CALSCALE:GREGORIAN
BEGIN:VEVENT
DTSTART:20260506T133500
DTEND:20260506T133530
LOCATION:Gewerbepark 13, 8562 Mooskirchen
DTSTAMP:20260423T153059
SUMMARY:MyAuktion: Ablauf Artikel Nr. 443147 Lastar Black Suit Paris 30ml 
URL;VALUE=URI:https://www.myauktion.com/versteigerung7661-position2446866-lastar-black-suit-paris-30ml.php
DESCRIPTION:MHD 05.10.2030 
UID:myauktion-7661-2446866
BEGIN:VALARM
ACTION:DISPLAY
DESCRIPTION:MHD 05.10.2030 
TRIGGER:-PT10M
END:VALARM
END:VEVENT
END:VCALENDAR