BEGIN:VCALENDAR
VERSION:2.0
PRODID:-//Goldgrube//myauktion.com//AT
CALSCALE:GREGORIAN
BEGIN:VEVENT
DTSTART:20260506T142800
DTEND:20260506T142830
LOCATION:Gewerbepark 13, 8562 Mooskirchen
DTSTAMP:20260423T151128
SUMMARY:MyAuktion: Ablauf Artikel Nr. 443497 Monroe Stoßdämpfer G1057 
URL;VALUE=URI:https://www.myauktion.com/versteigerung7661-position2446867-monroe-stossdaempfer-g1057.php
DESCRIPTION:
UID:myauktion-7661-2446867
BEGIN:VALARM
ACTION:DISPLAY
DESCRIPTION:
TRIGGER:-PT10M
END:VALARM
END:VEVENT
END:VCALENDAR