BEGIN:VCALENDAR
VERSION:2.0
PRODID:-//Goldgrube//myauktion.com//AT
CALSCALE:GREGORIAN
BEGIN:VEVENT
DTSTART:20260506T163500
DTEND:20260506T163530
LOCATION:Gewerbepark 13, 8562 Mooskirchen
DTSTAMP:20260423T153102
SUMMARY:MyAuktion: Ablauf Artikel Nr. 444120 Rieker Winterboots 45943-12
URL;VALUE=URI:https://www.myauktion.com/versteigerung7661-position2446868-rieker-winterboots-45943-12.php
DESCRIPTION:Gr.  40
UID:myauktion-7661-2446868
BEGIN:VALARM
ACTION:DISPLAY
DESCRIPTION:Gr.  40
TRIGGER:-PT10M
END:VALARM
END:VEVENT
END:VCALENDAR