BEGIN:VCALENDAR
VERSION:2.0
PRODID:-//Goldgrube//myauktion.com//AT
CALSCALE:GREGORIAN
BEGIN:VEVENT
DTSTART:20260506T152200
DTEND:20260506T152230
LOCATION:Gewerbepark 13, 8562 Mooskirchen
DTSTAMP:20260423T151130
SUMMARY:MyAuktion: Ablauf Artikel Nr. 443698 ADL Soft Air plus WDS Art.N. 110401-wds
URL;VALUE=URI:https://www.myauktion.com/versteigerung7661-position2446869-adl-soft-air-plus-wds-artn-110401-wds.php
DESCRIPTION:
UID:myauktion-7661-2446869
BEGIN:VALARM
ACTION:DISPLAY
DESCRIPTION:
TRIGGER:-PT10M
END:VALARM
END:VEVENT
END:VCALENDAR