BEGIN:VCALENDAR
VERSION:2.0
PRODID:-//Goldgrube//myauktion.com//AT
CALSCALE:GREGORIAN
BEGIN:VEVENT
DTSTART:20260506T152300
DTEND:20260506T152330
LOCATION:Gewerbepark 13, 8562 Mooskirchen
DTSTAMP:20260423T151137
SUMMARY:MyAuktion: Ablauf Artikel Nr. 443699 Soft Gel Nail Tips 
URL;VALUE=URI:https://www.myauktion.com/versteigerung7661-position2446871-soft-gel-nail-tips.php
DESCRIPTION:Gr. 15
UID:myauktion-7661-2446871
BEGIN:VALARM
ACTION:DISPLAY
DESCRIPTION:Gr. 15
TRIGGER:-PT10M
END:VALARM
END:VEVENT
END:VCALENDAR