BEGIN:VCALENDAR
VERSION:2.0
PRODID:-//Goldgrube//myauktion.com//AT
CALSCALE:GREGORIAN
BEGIN:VEVENT
DTSTART:20260506T152400
DTEND:20260506T152430
LOCATION:Gewerbepark 13, 8562 Mooskirchen
DTSTAMP:20260423T151133
SUMMARY:MyAuktion: Ablauf Artikel Nr. 443700 NITRO Rucksack 
URL;VALUE=URI:https://www.myauktion.com/versteigerung7661-position2446873-nitro-rucksack.php
DESCRIPTION:Gebraucht
UID:myauktion-7661-2446873
BEGIN:VALARM
ACTION:DISPLAY
DESCRIPTION:Gebraucht
TRIGGER:-PT10M
END:VALARM
END:VEVENT
END:VCALENDAR