BEGIN:VCALENDAR
VERSION:2.0
PRODID:-//Goldgrube//myauktion.com//AT
CALSCALE:GREGORIAN
BEGIN:VEVENT
DTSTART:20260506T133800
DTEND:20260506T133830
LOCATION:Gewerbepark 13, 8562 Mooskirchen
DTSTAMP:20260423T153105
SUMMARY:MyAuktion: Ablauf Artikel Nr. 443156 Ottoman Hocker grün W2845P307294 
URL;VALUE=URI:https://www.myauktion.com/versteigerung7661-position2446874-ottoman-hocker-gruen-w2845p307294.php
DESCRIPTION:
UID:myauktion-7661-2446874
BEGIN:VALARM
ACTION:DISPLAY
DESCRIPTION:
TRIGGER:-PT10M
END:VALARM
END:VEVENT
END:VCALENDAR