BEGIN:VCALENDAR
VERSION:2.0
PRODID:-//Goldgrube//myauktion.com//AT
CALSCALE:GREGORIAN
BEGIN:VEVENT
DTSTART:20260506T152500
DTEND:20260506T152530
LOCATION:Gewerbepark 13, 8562 Mooskirchen
DTSTAMP:20260423T151128
SUMMARY:MyAuktion: Ablauf Artikel Nr. 443704 Toolport Faltpavillon
URL;VALUE=URI:https://www.myauktion.com/versteigerung7661-position2446877-toolport-faltpavillon.php
DESCRIPTION:30 mm Stahl Rahmen, 3m × 6m
UID:myauktion-7661-2446877
BEGIN:VALARM
ACTION:DISPLAY
DESCRIPTION:30 mm Stahl Rahmen, 3m × 6m
TRIGGER:-PT10M
END:VALARM
END:VEVENT
END:VCALENDAR