BEGIN:VCALENDAR
VERSION:2.0
PRODID:-//Goldgrube//myauktion.com//AT
CALSCALE:GREGORIAN
BEGIN:VEVENT
DTSTART:20260506T134200
DTEND:20260506T134230
LOCATION:Gewerbepark 13, 8562 Mooskirchen
DTSTAMP:20260423T151126
SUMMARY:MyAuktion: Ablauf Artikel Nr. 443164 Kabelkanal ca. 200x4cm 10Stk 
URL;VALUE=URI:https://www.myauktion.com/versteigerung7661-position2446882-kabelkanal-ca-200x4cm-10stk.php
DESCRIPTION:
UID:myauktion-7661-2446882
BEGIN:VALARM
ACTION:DISPLAY
DESCRIPTION:
TRIGGER:-PT10M
END:VALARM
END:VEVENT
END:VCALENDAR