BEGIN:VCALENDAR
VERSION:2.0
PRODID:-//Goldgrube//myauktion.com//AT
CALSCALE:GREGORIAN
BEGIN:VEVENT
DTSTART:20260506T152800
DTEND:20260506T152830
LOCATION:Gewerbepark 13, 8562 Mooskirchen
DTSTAMP:20260423T151126
SUMMARY:MyAuktion: Ablauf Artikel Nr. 443708 Bridgestone Blizzak Reifen 205/55 R16 91H
URL;VALUE=URI:https://www.myauktion.com/versteigerung7661-position2446884-bridgestone-blizzak-reifen-205-55-r16-91h.php
DESCRIPTION:Inklusive Felge und Radbolzen
UID:myauktion-7661-2446884
BEGIN:VALARM
ACTION:DISPLAY
DESCRIPTION:Inklusive Felge und Radbolzen
TRIGGER:-PT10M
END:VALARM
END:VEVENT
END:VCALENDAR