BEGIN:VCALENDAR
VERSION:2.0
PRODID:-//Goldgrube//myauktion.com//AT
CALSCALE:GREGORIAN
BEGIN:VEVENT
DTSTART:20260506T143200
DTEND:20260506T143230
LOCATION:Gewerbepark 13, 8562 Mooskirchen
DTSTAMP:20260423T151132
SUMMARY:MyAuktion: Ablauf Artikel Nr. 443502 Schutzblech für Unterfahrschutz ca 99x74 
URL;VALUE=URI:https://www.myauktion.com/versteigerung7661-position2446885-schutzblech-fuer-unterfahrschutz-ca-99x74.php
DESCRIPTION:Mehr Details nicht ersichtlich 
UID:myauktion-7661-2446885
BEGIN:VALARM
ACTION:DISPLAY
DESCRIPTION:Mehr Details nicht ersichtlich 
TRIGGER:-PT10M
END:VALARM
END:VEVENT
END:VCALENDAR