BEGIN:VCALENDAR
VERSION:2.0
PRODID:-//Goldgrube//myauktion.com//AT
CALSCALE:GREGORIAN
BEGIN:VEVENT
DTSTART:20260506T160700
DTEND:20260506T160730
LOCATION:Gewerbepark 13, 8562 Mooskirchen
DTSTAMP:20260423T153108
SUMMARY:MyAuktion: Ablauf Artikel Nr. 444074 Country Line Trachtenschuhe X-643 
URL;VALUE=URI:https://www.myauktion.com/versteigerung7661-position2446887-country-line-trachtenschuhe-x-643.php
DESCRIPTION:Gr. 42
UID:myauktion-7661-2446887
BEGIN:VALARM
ACTION:DISPLAY
DESCRIPTION:Gr. 42
TRIGGER:-PT10M
END:VALARM
END:VEVENT
END:VCALENDAR