BEGIN:VCALENDAR
VERSION:2.0
PRODID:-//Goldgrube//myauktion.com//AT
CALSCALE:GREGORIAN
BEGIN:VEVENT
DTSTART:20260506T131100
DTEND:20260506T131130
LOCATION:Gewerbepark 13, 8562 Mooskirchen
DTSTAMP:20260423T153107
SUMMARY:MyAuktion: Ablauf Artikel Nr. 443096 Leifheit Clean Twist Disc Mop Micro Duo Ersatzbezug  
URL;VALUE=URI:https://www.myauktion.com/versteigerung7661-position2446891-leifheit-clean-twist-disc-mop-micro-duo-ersatzbezug.php
DESCRIPTION:
UID:myauktion-7661-2446891
BEGIN:VALARM
ACTION:DISPLAY
DESCRIPTION:
TRIGGER:-PT10M
END:VALARM
END:VEVENT
END:VCALENDAR