BEGIN:VCALENDAR
VERSION:2.0
PRODID:-//Goldgrube//myauktion.com//AT
CALSCALE:GREGORIAN
BEGIN:VEVENT
DTSTART:20260506T141300
DTEND:20260506T141330
LOCATION:Gewerbepark 13, 8562 Mooskirchen
DTSTAMP:20260423T151121
SUMMARY:MyAuktion: Ablauf Artikel Nr. 443478 Bohrer Länge: 24cm Durchmesser 2 cm 
URL;VALUE=URI:https://www.myauktion.com/versteigerung7661-position2446894-bohrer-laenge-24cm-durchmesser-2-cm.php
DESCRIPTION:
UID:myauktion-7661-2446894
BEGIN:VALARM
ACTION:DISPLAY
DESCRIPTION:
TRIGGER:-PT10M
END:VALARM
END:VEVENT
END:VCALENDAR