BEGIN:VCALENDAR
VERSION:2.0
PRODID:-//Goldgrube//myauktion.com//AT
CALSCALE:GREGORIAN
BEGIN:VEVENT
DTSTART:20260506T162200
DTEND:20260506T162230
LOCATION:Gewerbepark 13, 8562 Mooskirchen
DTSTAMP:20260423T153107
SUMMARY:MyAuktion: Ablauf Artikel Nr. 444102 Castrol Edge 5W-30 1l
URL;VALUE=URI:https://www.myauktion.com/versteigerung7661-position2446897-castrol-edge-5w-30-1l.php
DESCRIPTION:
UID:myauktion-7661-2446897
BEGIN:VALARM
ACTION:DISPLAY
DESCRIPTION:
TRIGGER:-PT10M
END:VALARM
END:VEVENT
END:VCALENDAR