BEGIN:VCALENDAR
VERSION:2.0
PRODID:-//Goldgrube//myauktion.com//AT
CALSCALE:GREGORIAN
BEGIN:VEVENT
DTSTART:20260506T132500
DTEND:20260506T132530
LOCATION:Gewerbepark 13, 8562 Mooskirchen
DTSTAMP:20260423T165942
SUMMARY:MyAuktion: Ablauf Artikel Nr. 443129 Solid Elements Stahlzargendichtung grau 5m 
URL;VALUE=URI:https://www.myauktion.com/versteigerung7661-position2446900-solid-elements-stahlzargendichtung-grau-5m.php
DESCRIPTION:
UID:myauktion-7661-2446900
BEGIN:VALARM
ACTION:DISPLAY
DESCRIPTION:
TRIGGER:-PT10M
END:VALARM
END:VEVENT
END:VCALENDAR