BEGIN:VCALENDAR
VERSION:2.0
PRODID:-//Goldgrube//myauktion.com//AT
CALSCALE:GREGORIAN
BEGIN:VEVENT
DTSTART:20260506T142900
DTEND:20260506T142930
LOCATION:Gewerbepark 13, 8562 Mooskirchen
DTSTAMP:20260423T151140
SUMMARY:MyAuktion: Ablauf Artikel Nr. 443498 Ersatz-Akku 21V 
URL;VALUE=URI:https://www.myauktion.com/versteigerung7661-position2446902-ersatz-akku-21v.php
DESCRIPTION:Gebraucht 
UID:myauktion-7661-2446902
BEGIN:VALARM
ACTION:DISPLAY
DESCRIPTION:Gebraucht 
TRIGGER:-PT10M
END:VALARM
END:VEVENT
END:VCALENDAR