BEGIN:VCALENDAR
VERSION:2.0
PRODID:-//Goldgrube//myauktion.com//AT
CALSCALE:GREGORIAN
BEGIN:VEVENT
DTSTART:20260506T152700
DTEND:20260506T152730
LOCATION:Gewerbepark 13, 8562 Mooskirchen
DTSTAMP:20260423T151130
SUMMARY:MyAuktion: Ablauf Artikel Nr. 443705 Bingold Einweghandschuhe Schwarz Grösse XL
URL;VALUE=URI:https://www.myauktion.com/versteigerung7661-position2446904-bingold-einweghandschuhe-schwarz-groesse-xl.php
DESCRIPTION:
UID:myauktion-7661-2446904
BEGIN:VALARM
ACTION:DISPLAY
DESCRIPTION:
TRIGGER:-PT10M
END:VALARM
END:VEVENT
END:VCALENDAR