BEGIN:VCALENDAR
VERSION:2.0
PRODID:-//Goldgrube//myauktion.com//AT
CALSCALE:GREGORIAN
BEGIN:VEVENT
DTSTART:20260508T092000
DTEND:20260508T092030
LOCATION:Gewerbepark 13, 8562 Mooskirchen
DTSTAMP:20260424T180144
SUMMARY:MyAuktion: Ablauf Artikel Nr. 956992 Bama Leather Stretcher 75ml 
URL;VALUE=URI:https://www.myauktion.com/versteigerung7678-position2447794-bama-leather-stretcher-75ml.php
DESCRIPTION:
UID:myauktion-7678-2447794
BEGIN:VALARM
ACTION:DISPLAY
DESCRIPTION:
TRIGGER:-PT10M
END:VALARM
END:VEVENT
END:VCALENDAR