BEGIN:VCALENDAR
VERSION:2.0
PRODID:-//Goldgrube//myauktion.com//AT
CALSCALE:GREGORIAN
BEGIN:VEVENT
DTSTART:20260508T093700
DTEND:20260508T093730
LOCATION:Gewerbepark 13, 8562 Mooskirchen
DTSTAMP:20260424T180143
SUMMARY:MyAuktion: Ablauf Artikel Nr. 956993 Bama Kork-Pflege 50ml 
URL;VALUE=URI:https://www.myauktion.com/versteigerung7678-position2447812-bama-kork-pflege-50ml.php
DESCRIPTION:
UID:myauktion-7678-2447812
BEGIN:VALARM
ACTION:DISPLAY
DESCRIPTION:
TRIGGER:-PT10M
END:VALARM
END:VEVENT
END:VCALENDAR