BEGIN:VCALENDAR
VERSION:2.0
PRODID:-//Goldgrube//myauktion.com//AT
CALSCALE:GREGORIAN
BEGIN:VEVENT
DTSTART:20260508T102000
DTEND:20260508T102030
LOCATION:Gewerbepark 13, 8562 Mooskirchen
DTSTAMP:20260424T160254
SUMMARY:MyAuktion: Ablauf Artikel Nr. 956994 Bama Woly Lack Liquid Patent 75ml 
URL;VALUE=URI:https://www.myauktion.com/versteigerung7678-position2447822-bama-woly-lack-liquid-patent-75ml.php
DESCRIPTION:
UID:myauktion-7678-2447822
BEGIN:VALARM
ACTION:DISPLAY
DESCRIPTION:
TRIGGER:-PT10M
END:VALARM
END:VEVENT
END:VCALENDAR