BEGIN:VCALENDAR
VERSION:2.0
PRODID:-//Goldgrube//myauktion.com//AT
CALSCALE:GREGORIAN
BEGIN:VEVENT
DTSTART:20260430T090500
DTEND:20260430T090530
LOCATION:Gewerbepark 13, 8562 Mooskirchen
DTSTAMP:20260423T164932
SUMMARY:MyAuktion: Ablauf Artikel Nr. 925000 Mautner Zitronen Eistee Sirup 6x0,7l
URL;VALUE=URI:https://www.myauktion.com/versteigerung7679-position2448008-mautner-zitronen-eistee-sirup-6x07l.php
DESCRIPTION:<div>MHD April/26</div>
UID:myauktion-7679-2448008
BEGIN:VALARM
ACTION:DISPLAY
DESCRIPTION:<div>MHD April/26</div>
TRIGGER:-PT10M
END:VALARM
END:VEVENT
END:VCALENDAR