BEGIN:VCALENDAR
VERSION:2.0
PRODID:-//Goldgrube//myauktion.com//AT
CALSCALE:GREGORIAN
BEGIN:VEVENT
DTSTART:20260509T105300
DTEND:20260509T105330
LOCATION:Gewerbepark 13, 8562 Mooskirchen
DTSTAMP:20260425T143132
SUMMARY:MyAuktion: Ablauf Artikel Nr. 959320 Erasco diverse Sorten 6x800g
URL;VALUE=URI:https://www.myauktion.com/versteigerung7672-position2448060-erasco-diverse-sorten-6x800g.php
DESCRIPTION:MHD 2029 
UID:myauktion-7672-2448060
BEGIN:VALARM
ACTION:DISPLAY
DESCRIPTION:MHD 2029 
TRIGGER:-PT10M
END:VALARM
END:VEVENT
END:VCALENDAR