BEGIN:VCALENDAR
VERSION:2.0
PRODID:-//Goldgrube//myauktion.com//AT
CALSCALE:GREGORIAN
BEGIN:VEVENT
DTSTART:20260509T110700
DTEND:20260509T110730
LOCATION:Gewerbepark 13, 8562 Mooskirchen
DTSTAMP:20260425T143126
SUMMARY:MyAuktion: Ablauf Artikel Nr. 959333 Inleae Flavor Powder white choc coconut Flavor 90g 
URL;VALUE=URI:https://www.myauktion.com/versteigerung7672-position2448087-inleae-flavor-powder-white-choc-coconut-flavor-90g.php
DESCRIPTION:MHD 04.11.2027 
UID:myauktion-7672-2448087
BEGIN:VALARM
ACTION:DISPLAY
DESCRIPTION:MHD 04.11.2027 
TRIGGER:-PT10M
END:VALARM
END:VEVENT
END:VCALENDAR