BEGIN:VCALENDAR
VERSION:2.0
PRODID:-//Goldgrube//myauktion.com//AT
CALSCALE:GREGORIAN
BEGIN:VEVENT
DTSTART:20260509T111500
DTEND:20260509T111530
LOCATION:Gewerbepark 13, 8562 Mooskirchen
DTSTAMP:20260425T143127
SUMMARY:MyAuktion: Ablauf Artikel Nr. 959341 Sunday Natural Premium Bio Protein 12K Wild Berry Flavour 1000g 
URL;VALUE=URI:https://www.myauktion.com/versteigerung7672-position2448100-sunday-natural-premium-bio-protein-12k-wild-berry-flavour-1000g.php
DESCRIPTION:MHD 28.11.2027 
UID:myauktion-7672-2448100
BEGIN:VALARM
ACTION:DISPLAY
DESCRIPTION:MHD 28.11.2027 
TRIGGER:-PT10M
END:VALARM
END:VEVENT
END:VCALENDAR