BEGIN:VCALENDAR
VERSION:2.0
PRODID:-//Goldgrube//myauktion.com//AT
CALSCALE:GREGORIAN
BEGIN:VEVENT
DTSTART:20260509T112000
DTEND:20260509T112030
LOCATION:Gewerbepark 13, 8562 Mooskirchen
DTSTAMP:20260425T143127
SUMMARY:MyAuktion: Ablauf Artikel Nr. 959345 Sunday Natural Premium Bio Protein 12K Natural Criolla Cacao 1000g 
URL;VALUE=URI:https://www.myauktion.com/versteigerung7672-position2448110-sunday-natural-premium-bio-protein-12k-natural-criolla-cacao-1000g.php
DESCRIPTION:MHD 03.02.2028 / Verpackung verschmutzt 
UID:myauktion-7672-2448110
BEGIN:VALARM
ACTION:DISPLAY
DESCRIPTION:MHD 03.02.2028 / Verpackung verschmutzt 
TRIGGER:-PT10M
END:VALARM
END:VEVENT
END:VCALENDAR