BEGIN:VCALENDAR
VERSION:2.0
PRODID:-//Goldgrube//myauktion.com//AT
CALSCALE:GREGORIAN
BEGIN:VEVENT
DTSTART:20260509T093800
DTEND:20260509T093830
LOCATION:Gewerbepark 13, 8562 Mooskirchen
DTSTAMP:20260425T143129
SUMMARY:MyAuktion: Ablauf Artikel Nr. 958600 Fresubin 2KCAL Drink Pfirsich-Aprikose 4×200ml
URL;VALUE=URI:https://www.myauktion.com/versteigerung7672-position2448136-fresubin-2kcal-drink-pfirsich-aprikose-4200ml.php
DESCRIPTION:MHD: 02/2027
UID:myauktion-7672-2448136
BEGIN:VALARM
ACTION:DISPLAY
DESCRIPTION:MHD: 02/2027
TRIGGER:-PT10M
END:VALARM
END:VEVENT
END:VCALENDAR