BEGIN:VCALENDAR
VERSION:2.0
PRODID:-//Goldgrube//myauktion.com//AT
CALSCALE:GREGORIAN
BEGIN:VEVENT
DTSTART:20260509T113900
DTEND:20260509T113930
LOCATION:Gewerbepark 13, 8562 Mooskirchen
DTSTAMP:20260425T143131
SUMMARY:MyAuktion: Ablauf Artikel Nr. 959362 Sunday Natural Kollagen Pulver SunGlow Pure Natural 450g 
URL;VALUE=URI:https://www.myauktion.com/versteigerung7672-position2448151-sunday-natural-kollagen-pulver-sunglow-pure-natural-450g.php
DESCRIPTION:MHD 12.2026 
UID:myauktion-7672-2448151
BEGIN:VALARM
ACTION:DISPLAY
DESCRIPTION:MHD 12.2026 
TRIGGER:-PT10M
END:VALARM
END:VEVENT
END:VCALENDAR