BEGIN:VCALENDAR
VERSION:2.0
PRODID:-//Goldgrube//myauktion.com//AT
CALSCALE:GREGORIAN
BEGIN:VEVENT
DTSTART:20260509T114000
DTEND:20260509T114030
LOCATION:Gewerbepark 13, 8562 Mooskirchen
DTSTAMP:20260425T143128
SUMMARY:MyAuktion: Ablauf Artikel Nr. 959363 Sunday Natural Premium Bio Protein 12K Natural Vanilla 1000g 
URL;VALUE=URI:https://www.myauktion.com/versteigerung7672-position2448152-sunday-natural-premium-bio-protein-12k-natural-vanilla-1000g.php
DESCRIPTION:MHD 24.02.2028 
UID:myauktion-7672-2448152
BEGIN:VALARM
ACTION:DISPLAY
DESCRIPTION:MHD 24.02.2028 
TRIGGER:-PT10M
END:VALARM
END:VEVENT
END:VCALENDAR