BEGIN:VCALENDAR
VERSION:2.0
PRODID:-//Goldgrube//myauktion.com//AT
CALSCALE:GREGORIAN
BEGIN:VEVENT
DTSTART:20260509T123100
DTEND:20260509T123130
LOCATION:Gewerbepark 13, 8562 Mooskirchen
DTSTAMP:20260425T143126
SUMMARY:MyAuktion: Ablauf Artikel Nr. 966861 Sunday Natural Creamy Protein Natural Criollo Cacao 1000g
URL;VALUE=URI:https://www.myauktion.com/versteigerung7672-position2448189-sunday-natural-creamy-protein-natural-criollo-cacao-1000g.php
DESCRIPTION:Mhf 01.28
UID:myauktion-7672-2448189
BEGIN:VALARM
ACTION:DISPLAY
DESCRIPTION:Mhf 01.28
TRIGGER:-PT10M
END:VALARM
END:VEVENT
END:VCALENDAR