BEGIN:VCALENDAR
VERSION:2.0
PRODID:-//Goldgrube//myauktion.com//AT
CALSCALE:GREGORIAN
BEGIN:VEVENT
DTSTART:20260509T104100
DTEND:20260509T104130
LOCATION:Gewerbepark 13, 8562 Mooskirchen
DTSTAMP:20260425T143125
SUMMARY:MyAuktion: Ablauf Artikel Nr. 959020 Alnatura Chili sind Carne Bio 6x400g
URL;VALUE=URI:https://www.myauktion.com/versteigerung7672-position2448230-alnatura-chili-sind-carne-bio-6x400g.php
DESCRIPTION:MHD: 17/01/29 Verpackung beschmutzt 
UID:myauktion-7672-2448230
BEGIN:VALARM
ACTION:DISPLAY
DESCRIPTION:MHD: 17/01/29 Verpackung beschmutzt 
TRIGGER:-PT10M
END:VALARM
END:VEVENT
END:VCALENDAR