BEGIN:VCALENDAR
VERSION:2.0
PRODID:-//Goldgrube//myauktion.com//AT
CALSCALE:GREGORIAN
BEGIN:VEVENT
DTSTART:20260509T100300
DTEND:20260509T100330
LOCATION:Gewerbepark 13, 8562 Mooskirchen
DTSTAMP:20260425T143132
SUMMARY:MyAuktion: Ablauf Artikel Nr. 958622 Diverse Tomaten Produkte
URL;VALUE=URI:https://www.myauktion.com/versteigerung7672-position2448232-diverse-tomaten-produkte.php
DESCRIPTION:MHD: 13.01.2028
UID:myauktion-7672-2448232
BEGIN:VALARM
ACTION:DISPLAY
DESCRIPTION:MHD: 13.01.2028
TRIGGER:-PT10M
END:VALARM
END:VEVENT
END:VCALENDAR