BEGIN:VCALENDAR
VERSION:2.0
PRODID:-//Goldgrube//myauktion.com//AT
CALSCALE:GREGORIAN
BEGIN:VEVENT
DTSTART:20260509T102500
DTEND:20260509T102530
LOCATION:Gewerbepark 13, 8562 Mooskirchen
DTSTAMP:20260425T143129
SUMMARY:MyAuktion: Ablauf Artikel Nr. 959006 KoRo Erdnussmus smooth 1kg 
URL;VALUE=URI:https://www.myauktion.com/versteigerung7672-position2448264-koro-erdnussmus-smooth-1kg.php
DESCRIPTION:MHD: 21/01/27
UID:myauktion-7672-2448264
BEGIN:VALARM
ACTION:DISPLAY
DESCRIPTION:MHD: 21/01/27
TRIGGER:-PT10M
END:VALARM
END:VEVENT
END:VCALENDAR