BEGIN:VCALENDAR
VERSION:2.0
PRODID:-//Goldgrube//myauktion.com//AT
CALSCALE:GREGORIAN
BEGIN:VEVENT
DTSTART:20260509T102800
DTEND:20260509T102830
LOCATION:Gewerbepark 13, 8562 Mooskirchen
DTSTAMP:20260425T143123
SUMMARY:MyAuktion: Ablauf Artikel Nr. 959009 Whey Protein Sport Line Natural Criollo Cacao 1000g 
URL;VALUE=URI:https://www.myauktion.com/versteigerung7672-position2448267-whey-protein-sport-line-natural-criollo-cacao-1000g.php
DESCRIPTION:MHD: 30/09/27
UID:myauktion-7672-2448267
BEGIN:VALARM
ACTION:DISPLAY
DESCRIPTION:MHD: 30/09/27
TRIGGER:-PT10M
END:VALARM
END:VEVENT
END:VCALENDAR