BEGIN:VCALENDAR
VERSION:2.0
PRODID:-//Goldgrube//myauktion.com//AT
CALSCALE:GREGORIAN
BEGIN:VEVENT
DTSTART:20260510T090100
DTEND:20260510T090130
LOCATION:Gewerbepark 13, 8562 Mooskirchen
DTSTAMP:20260424T111533
SUMMARY:MyAuktion: Ablauf Artikel Nr. 924965 Minibagger Diesel
URL;VALUE=URI:https://www.myauktion.com/versteigerung7680-position2448861-minibagger-diesel.php
DESCRIPTION:<div>Neuwertig mit erst ca.1-2 Betriebsstunden Startklar!  Wichtigste Merkmale: • Eigengewicht: 1000 kg • Baujahr: 2025 • Motor: KOOP Diesel – 7 kW • Verbrauch: ± 1 – 2 Liter pro Stunde • Maximale Grabtiefe: 1650 mm • Maximale Auskipphöhe: 1750 mm • Maximaler Grabreichweite: 2400 mm • Maximale Grabtiefe: 2490 mm • Raupenantrieb • Kompakt und leistungsstark • Sehr stabil und wendig • Farbe: Gelb  <font
face="Segoe UI Symbol"><br />
</font>Abmessungen • ca. 1800 x 980 x 2450 mm (H x B x L)  <font
face="Segoe UI Symbol"><br />
<br />
</font>Standardmäßig im Lieferumfang enthalten • ca. 300-mm-Baggerlöffel</div>
UID:myauktion-7680-2448861
BEGIN:VALARM
ACTION:DISPLAY
DESCRIPTION:<div>Neuwertig mit erst ca.1-2 Betriebsstunden Startklar!  Wichtigste Merkmale: • Eigengewicht: 1000 kg • Baujahr: 2025 • Motor: KOOP Diesel – 7 kW • Verbrauch: ± 1 – 2 Liter pro Stunde • Maximale Grabtiefe: 1650 mm • Maximale Auskipphöhe: 1750 mm • Maximaler Grabreichweite: 2400 mm • Maximale Grabtiefe: 2490 mm • Raupenantrieb • Kompakt und leistungsstark • Sehr stabil und wendig • Farbe: Gelb  <font
face="Segoe UI Symbol"><br />
</font>Abmessungen • ca. 1800 x 980 x 2450 mm (H x B x L)  <font
face="Segoe UI Symbol"><br />
<br />
</font>Standardmäßig im Lieferumfang enthalten • ca. 300-mm-Baggerlöffel</div>
TRIGGER:-PT10M
END:VALARM
END:VEVENT
END:VCALENDAR