BEGIN:VCALENDAR
VERSION:2.0
PRODID:-//Goldgrube//myauktion.com//AT
CALSCALE:GREGORIAN
BEGIN:VEVENT
DTSTART:20260509T150300
DTEND:20260509T150330
LOCATION:Gewerbepark 13, 8562 Mooskirchen
DTSTAMP:20260425T143129
SUMMARY:MyAuktion: Ablauf Artikel Nr. 961862 Marietta Steel Chaise Lounge Side Table
URL;VALUE=URI:https://www.myauktion.com/versteigerung7673-position2448909-marietta-steel-chaise-lounge-side-table.php
DESCRIPTION:2,15m lang, 26cm breit
UID:myauktion-7673-2448909
BEGIN:VALARM
ACTION:DISPLAY
DESCRIPTION:2,15m lang, 26cm breit
TRIGGER:-PT10M
END:VALARM
END:VEVENT
END:VCALENDAR