BEGIN:VCALENDAR
VERSION:2.0
PRODID:-//Goldgrube//myauktion.com//AT
CALSCALE:GREGORIAN
BEGIN:VEVENT
DTSTART:20260509T152500
DTEND:20260509T152530
LOCATION:Gewerbepark 13, 8562 Mooskirchen
DTSTAMP:20260425T143122
SUMMARY:MyAuktion: Ablauf Artikel Nr. 962800 Nagelbild 10Stk mit Anleitung für verschiedene Motive 
URL;VALUE=URI:https://www.myauktion.com/versteigerung7673-position2448913-nagelbild-10stk-mit-anleitung-fuer-verschiedene-motive.php
DESCRIPTION:
UID:myauktion-7673-2448913
BEGIN:VALARM
ACTION:DISPLAY
DESCRIPTION:
TRIGGER:-PT10M
END:VALARM
END:VEVENT
END:VCALENDAR