BEGIN:VCALENDAR
VERSION:2.0
PRODID:-//Goldgrube//myauktion.com//AT
CALSCALE:GREGORIAN
BEGIN:VEVENT
DTSTART:20260509T150900
DTEND:20260509T150930
LOCATION:Gewerbepark 13, 8562 Mooskirchen
DTSTAMP:20260425T143128
SUMMARY:MyAuktion: Ablauf Artikel Nr. 961878 Edelstahl Montage Winkel für Geschirrspüler
URL;VALUE=URI:https://www.myauktion.com/versteigerung7673-position2448946-edelstahl-montage-winkel-fuer-geschirrspueler.php
DESCRIPTION:1 Paar inklusive Bolzen und Abstandshalter
UID:myauktion-7673-2448946
BEGIN:VALARM
ACTION:DISPLAY
DESCRIPTION:1 Paar inklusive Bolzen und Abstandshalter
TRIGGER:-PT10M
END:VALARM
END:VEVENT
END:VCALENDAR