BEGIN:VCALENDAR
VERSION:2.0
PRODID:-//Goldgrube//myauktion.com//AT
CALSCALE:GREGORIAN
BEGIN:VEVENT
DTSTART:20260509T151000
DTEND:20260509T151030
LOCATION:Gewerbepark 13, 8562 Mooskirchen
DTSTAMP:20260425T143129
SUMMARY:MyAuktion: Ablauf Artikel Nr. 961880 Seilwinde 
URL;VALUE=URI:https://www.myauktion.com/versteigerung7673-position2448950-seilwinde.php
DESCRIPTION:Gebraucht, Funktion nicht getestet
UID:myauktion-7673-2448950
BEGIN:VALARM
ACTION:DISPLAY
DESCRIPTION:Gebraucht, Funktion nicht getestet
TRIGGER:-PT10M
END:VALARM
END:VEVENT
END:VCALENDAR