BEGIN:VCALENDAR
VERSION:2.0
PRODID:-//Goldgrube//myauktion.com//AT
CALSCALE:GREGORIAN
BEGIN:VEVENT
DTSTART:20260509T162300
DTEND:20260509T162330
LOCATION:Gewerbepark 13, 8562 Mooskirchen
DTSTAMP:20260425T143128
SUMMARY:MyAuktion: Ablauf Artikel Nr. 963603 Diverse Zubehör zum zusammen Stecken
URL;VALUE=URI:https://www.myauktion.com/versteigerung7673-position2448980-diverse-zubehoer-zum-zusammen-stecken.php
DESCRIPTION:Keine weiteren Daten ersichtlich
UID:myauktion-7673-2448980
BEGIN:VALARM
ACTION:DISPLAY
DESCRIPTION:Keine weiteren Daten ersichtlich
TRIGGER:-PT10M
END:VALARM
END:VEVENT
END:VCALENDAR