BEGIN:VCALENDAR
VERSION:2.0
PRODID:-//Goldgrube//myauktion.com//AT
CALSCALE:GREGORIAN
BEGIN:VEVENT
DTSTART:20260509T163200
DTEND:20260509T163230
LOCATION:Gewerbepark 13, 8562 Mooskirchen
DTSTAMP:20260425T143127
SUMMARY:MyAuktion: Ablauf Artikel Nr. 963917 Tonerkatusche Cyan At-H-W2211AR MP144291 
URL;VALUE=URI:https://www.myauktion.com/versteigerung7673-position2449020-tonerkatusche-cyan-at-h-w2211ar-mp144291.php
DESCRIPTION:Verpackung Beschädigt 
UID:myauktion-7673-2449020
BEGIN:VALARM
ACTION:DISPLAY
DESCRIPTION:Verpackung Beschädigt 
TRIGGER:-PT10M
END:VALARM
END:VEVENT
END:VCALENDAR