BEGIN:VCALENDAR
VERSION:2.0
PRODID:-//Goldgrube//myauktion.com//AT
CALSCALE:GREGORIAN
BEGIN:VEVENT
DTSTART:20260508T090500
DTEND:20260508T090530
LOCATION:Gewerbepark 13, 8562 Mooskirchen
DTSTAMP:20260424T180138
SUMMARY:MyAuktion: Ablauf Artikel Nr. 925670 axentia Whiskyglas
URL;VALUE=URI:https://www.myauktion.com/versteigerung7681-position2449365-axentia-whiskyglas.php
DESCRIPTION:
UID:myauktion-7681-2449365
BEGIN:VALARM
ACTION:DISPLAY
DESCRIPTION:
TRIGGER:-PT10M
END:VALARM
END:VEVENT
END:VCALENDAR