BEGIN:VCALENDAR
VERSION:2.0
PRODID:-//Goldgrube//myauktion.com//AT
CALSCALE:GREGORIAN
BEGIN:VEVENT
DTSTART:20260508T093000
DTEND:20260508T093030
LOCATION:Gewerbepark 13, 8562 Mooskirchen
DTSTAMP:20260424T180142
SUMMARY:MyAuktion: Ablauf Artikel Nr. 925672 axentia Sektglas ca 250ml
URL;VALUE=URI:https://www.myauktion.com/versteigerung7681-position2449389-axentia-sektglas-ca-250ml.php
DESCRIPTION:
UID:myauktion-7681-2449389
BEGIN:VALARM
ACTION:DISPLAY
DESCRIPTION:
TRIGGER:-PT10M
END:VALARM
END:VEVENT
END:VCALENDAR