BEGIN:VCALENDAR
VERSION:2.0
PRODID:-//Goldgrube//myauktion.com//AT
CALSCALE:GREGORIAN
BEGIN:VEVENT
DTSTART:20260508T092300
DTEND:20260508T092330
LOCATION:Gewerbepark 13, 8562 Mooskirchen
DTSTAMP:20260425T015243
SUMMARY:MyAuktion: Ablauf Artikel Nr. 925672 axentia Sektglas ca 250ml
URL;VALUE=URI:https://www.myauktion.com/versteigerung7681-position2449392-axentia-sektglas-ca-250ml.php
DESCRIPTION:
UID:myauktion-7681-2449392
BEGIN:VALARM
ACTION:DISPLAY
DESCRIPTION:
TRIGGER:-PT10M
END:VALARM
END:VEVENT
END:VCALENDAR