BEGIN:VCALENDAR
VERSION:2.0
PRODID:-//Goldgrube//myauktion.com//AT
CALSCALE:GREGORIAN
BEGIN:VEVENT
DTSTART:20260508T094100
DTEND:20260508T094130
LOCATION:Gewerbepark 13, 8562 Mooskirchen
DTSTAMP:20260424T180135
SUMMARY:MyAuktion: Ablauf Artikel Nr. 925673 axentia Sektglas ca 160ml
URL;VALUE=URI:https://www.myauktion.com/versteigerung7681-position2449410-axentia-sektglas-ca-160ml.php
DESCRIPTION:
UID:myauktion-7681-2449410
BEGIN:VALARM
ACTION:DISPLAY
DESCRIPTION:
TRIGGER:-PT10M
END:VALARM
END:VEVENT
END:VCALENDAR