BEGIN:VCALENDAR
VERSION:2.0
PRODID:-//Goldgrube//myauktion.com//AT
CALSCALE:GREGORIAN
BEGIN:VEVENT
DTSTART:20260508T094500
DTEND:20260508T094530
LOCATION:Gewerbepark 13, 8562 Mooskirchen
DTSTAMP:20260425T015248
SUMMARY:MyAuktion: Ablauf Artikel Nr. 925673 axentia Sektglas ca 160ml
URL;VALUE=URI:https://www.myauktion.com/versteigerung7681-position2449414-axentia-sektglas-ca-160ml.php
DESCRIPTION:
UID:myauktion-7681-2449414
BEGIN:VALARM
ACTION:DISPLAY
DESCRIPTION:
TRIGGER:-PT10M
END:VALARM
END:VEVENT
END:VCALENDAR